BEGIN:VCALENDAR
PRODID:-//AT Content Types//AT Event//EN
VERSION:2.0
METHOD:PUBLISH
BEGIN:VEVENT
DTSTAMP:20260423T131144Z
CREATED:20120417T141949Z
UID:ATEvent-ef0503cc-c777-47f1-b346-f70d1504b337
LAST-MODIFIED:20120417T141949Z
SUMMARY:Astronomy meeting
DTSTART:20120420T230000Z
DTEND:20120421T000000Z
LOCATION:Fence Center Conference Room
CATEGORIES:Nature/Astronomy
CONTACT:Jim Cooper/Jessie Willard
CLASS:PUBLIC
END:VEVENT
END:VCALENDAR
