BEGIN:VCALENDAR
PRODID:-//AT Content Types//AT Event//EN
VERSION:2.0
METHOD:PUBLISH
BEGIN:VEVENT
DTSTAMP:20260423T105313Z
CREATED:20130108T154237Z
UID:ATEvent-295332e8-5246-4d1e-a297-fee0e498f059
LAST-MODIFIED:20130108T154237Z
SUMMARY:Art Day Camp
DTSTART:20130729T123000Z
DTEND:20130802T163000Z
DESCRIPTION:Ages (5-12) (8:30-12:30) $100.00 SESSION\nCREATE & USE YOU
 R IMAGINATION THIS WEEK.  LOTS OF CREATIVE PROJECTS TO KEEP YOUR CAMPE
 R BUSY WHILE LEARNING TO USE DIFFERENT ART MEDIA AND THINGS FROM THE W
 ILD. OUT-DOOR ACTIVITIES ALSO HELP SPARK THE IMAGINATION
CATEGORIES:Childrens Day Camp
CONTACT:Tracie Hanson\, 828-859-9021\, natureeducation@fence.org
CLASS:PUBLIC
END:VEVENT
END:VCALENDAR
