BEGIN:VCALENDAR
PRODID:-//AT Content Types//AT Event//EN
VERSION:1.0
BEGIN:VEVENT
DTSTART:20190708T123000Z
DTEND:20190712T163000Z
DCREATED:20181016T202052Z
UID:ATEvent-1b35df090ecb40b69fcdf92401e7c989
SEQUENCE:0
LAST-MODIFIED:20181016T202052Z
SUMMARY:Art Camp
LOCATION:FENCE Center
PRIORITY:3
TRANSP:0
END:VEVENT
END:VCALENDAR
