BEGIN:VCALENDAR
PRODID:-//AT Content Types//AT Event//EN
VERSION:1.0
BEGIN:VEVENT
DTSTART:20160124T210000Z
DTEND:20160124T220000Z
DCREATED:20151026T192247Z
UID:ATEvent-599e8428-b3e8-4493-8673-ec9bc515950c
SEQUENCE:0
LAST-MODIFIED:20160123T155949Z
SUMMARY:Postponed due weather!!! Armchair Traveler with Anna Alsobrook
DESCRIPTION:Anna will speak about her time spent in the PeaceCorps ser
 ving in Senegal\, Africa. She did not realize then the connections bet
 ween water quality and health The issues surrounding the topic fascina
 ted her and she began studying it from different perspectives (populat
 ion pressures\, environmental changes\, land-use impacts\, etc.).
LOCATION:FENCE Center
PRIORITY:3
TRANSP:0
END:VEVENT
END:VCALENDAR
