BEGIN:VCALENDAR
PRODID:-//AT Content Types//AT Event//EN
VERSION:2.0
METHOD:PUBLISH
BEGIN:VEVENT
DTSTAMP:20260423T120002Z
CREATED:20140120T215531Z
UID:ATEvent-f2acc21e-33ea-4023-9333-60c7f32b2254
LAST-MODIFIED:20140208T200139Z
SUMMARY:Armchair Traveler with Simon Thompson
DTSTART:20140406T200000Z
DTEND:20140406T210000Z
DESCRIPTION:Colombia has opened up a lot in the last 10 years with mor
 e and more tourists visiting this beautiful country. Colombia also hol
 ds the record for the highest number of bird species of any country in
  the world\, including over 70 that are found nowhere else.
LOCATION:Fence Center
CATEGORIES:Family
CONTACT:Tracie Hanson\, 8288599021\, info@fence.org
CLASS:PUBLIC
END:VEVENT
END:VCALENDAR
