BEGIN:VCALENDAR
PRODID:-//AT Content Types//AT Event//EN
VERSION:1.0
BEGIN:VEVENT
DTSTART:20170226T210000Z
DTEND:20170226T220000Z
DCREATED:20170106T173819Z
UID:ATEvent-78c41626e8fb45e1974090332b6494a0
SEQUENCE:0
LAST-MODIFIED:20170106T173821Z
SUMMARY:Armchair Traveler with Natalie Rothenberg
DESCRIPTION:FENCE will present our first Armchair Traveler of the year
 . Natalie Rothenberg will be our guest for the afternoon. She will att
 empt to warm us all up during our winter months by presenting about he
 r experiences in Kauai\, Hawaii where she volunteered on a farm for fo
 ur months. This wonderful presentation is free and open to the public.
  Following the presentation refreshments will be served. This event is
  made possible by the Kirby Endowment at the Polk County Community Fou
 ndation.
LOCATION:FENCE Center
PRIORITY:3
TRANSP:0
END:VEVENT
END:VCALENDAR
