BEGIN:VCALENDAR
PRODID:-//AT Content Types//AT Event//EN
VERSION:1.0
BEGIN:VEVENT
DTSTART:20170827T200000Z
DTEND:20170827T210000Z
DCREATED:20170105T191756Z
UID:ATEvent-ecbf0ae5cdf440c5bb6388f4e27bf4ce
SEQUENCE:0
LAST-MODIFIED:20170105T191757Z
SUMMARY:Armchair Traveler with Aaron Steed
LOCATION:FENCE Center
PRIORITY:3
TRANSP:0
END:VEVENT
END:VCALENDAR
