BEGIN:VCALENDAR
PRODID:-//AT Content Types//AT Event//EN
VERSION:2.0
METHOD:PUBLISH
BEGIN:VEVENT
DTSTAMP:20260423T105846Z
CREATED:20160718T205240Z
UID:ATEvent-79d47f4b90a94466abc592212550c3ca
LAST-MODIFIED:20160718T205241Z
SUMMARY:Armchair Traveler in Senegel!
DTSTART:20160724T200000Z
DTEND:20160724T210000Z
DESCRIPTION:Don't miss out on a great Armchair Traveler. FENCE to pres
 ent free Armchair Traveler “Good Living in Senegal” Along this jou
 rney\, Anna Alsobrook\, will help us to visualize life in Senegal. Ann
 a will speak about the two years she spent in Senegal serving as a pre
 ventative health and environmental education volunteer with the PeaceC
 orps. Be sure to stick around for refreshments after this great progra
 m. Thank you to the Kirby Endowment at the Polk County Community Found
 ation for making this event possible.
LOCATION:FENCE Center
CONTACT:Tracie Hanson\, 828-859-9021\, info@fence.org
CLASS:PUBLIC
END:VEVENT
END:VCALENDAR
