BEGIN:VCALENDAR
PRODID:-//AT Content Types//AT Event//EN
VERSION:2.0
METHOD:PUBLISH
BEGIN:VEVENT
DTSTAMP:20260423T142722Z
CREATED:20151110T204301Z
UID:ATEvent-695dca66-31be-4a33-8699-b82b3bd33326
LAST-MODIFIED:20160520T183603Z
SUMMARY:Armchair Traveler - Food Around the World
DTSTART:20160522T210000Z
DTEND:20160522T220000Z
DESCRIPTION:Join us in the Great room at 4pm for a wonderful armchair 
 traveler presentation\, Food around the World\, focusing on France. An
 sley Roberts will be talking about her recent travels abroad where she
  spent six months in France. If there is one theme prevalent throughou
 t that entire country it would be the great food. She spent a semester
  abroad in Paris\, France studying European history and culture at Ins
 titut Catholique de Paris. During her semester in Paris she was able t
 o taste all France had to offer from Normandy to Nice. In her Armchair
  Traveler presentation\, Ansley will discuss all the delectable deligh
 ts France has to offer.\nAfter the presentation stick around to enjoy 
 some cheeses\, breads\, and desserts in French style. \n Thank you to 
 the Kirby Endowment at the Polk County Community Foundation for making
  this event possible.
LOCATION:FENCE Center
CATEGORIES:Family
CONTACT:Tracie Hanson\, 828-859-9021\, info@fence.org
CLASS:PUBLIC
END:VEVENT
END:VCALENDAR
