BEGIN:VCALENDAR
PRODID:-//AT Content Types//AT Event//EN
VERSION:2.0
METHOD:PUBLISH
BEGIN:VEVENT
DTSTAMP:20260423T115814Z
CREATED:20190524T122654Z
UID:ATEvent-cf858b3909664782bf69c9bdc705312f
LAST-MODIFIED:20190607T224408Z
SUMMARY:Cancelled-Armchair Traveler
DTSTART:20190609T200000Z
DTEND:20190609T210000Z
DESCRIPTION:Due to unforeseen circumstances\, the Armchair Traveler ha
 s been cancelled. Sorry for any inconvenience this causes.
LOCATION:FENCE Center
CATEGORIES:Family
CONTACT:828-859-9021\, info@fence.org
CLASS:PUBLIC
END:VEVENT
END:VCALENDAR
