BEGIN:VCALENDAR
PRODID:-//AT Content Types//AT Event//EN
VERSION:1.0
BEGIN:VEVENT
DTSTART:20200816T200000Z
DTEND:20200816T210000Z
DCREATED:20200606T185952Z
UID:ATEvent-7e349583ae644c0383f36882de6318fc
SEQUENCE:0
LAST-MODIFIED:20200716T175659Z
SUMMARY:Postponed-Armchair Traveler
LOCATION:FENCE center
PRIORITY:3
TRANSP:0
END:VEVENT
END:VCALENDAR
