BEGIN:VCALENDAR
PRODID:-//AT Content Types//AT Event//EN
VERSION:2.0
METHOD:PUBLISH
BEGIN:VEVENT
DTSTAMP:20260423T171116Z
CREATED:20200114T014628Z
UID:ATEvent-55af390426d1486bbb475e4a66b7d098
LAST-MODIFIED:20200316T140226Z
SUMMARY:Armchair Traveler-Postponed
DTSTART:20200329T200000Z
DTEND:20200329T210000Z
DESCRIPTION:Long closed to travelers coming from the US\, Cuba was ope
 ned up for American tourists in 2016. Restrictions implemented last ye
 ar have in fact changed very little\, meaning Cuba and it's wealth of 
 natural riches\, including 27 species of endemic birds are still legal
 ly accessible. Join international bird guide Aaron Steed as he recount
 s a past visit\, sharing photos of birds\, wildlife\, and landscapes\,
  as well as thoughts on Cuba's culture and it's complicated relationsh
 ip with the US.
LOCATION:FENCE center
CATEGORIES:Family
CONTACT:828-859-9021\, info@fence.org
CLASS:PUBLIC
END:VEVENT
END:VCALENDAR
