BEGIN:VCALENDAR
PRODID:-//AT Content Types//AT Event//EN
VERSION:2.0
METHOD:PUBLISH
BEGIN:VEVENT
DTSTAMP:20260423T131456Z
CREATED:20190110T020512Z
UID:ATEvent-2888059d2b8e42da827f8b807413b0b6
LAST-MODIFIED:20190110T020514Z
SUMMARY:Armchair Traveler
DTSTART:20190127T210000Z
DTEND:20190127T220000Z
DESCRIPTION:Mary Dailey is a teaching artist in the West Virginia publ
 ic school system and a West Virginia Humanities "History Alive!" prese
 nter. She will be portraying Sacagawea as she retells her remarkable s
 tory.
LOCATION:FENCE center
CATEGORIES:Family
CONTACT:828-859-9021\, info@fence.org
CLASS:PUBLIC
END:VEVENT
END:VCALENDAR
