BEGIN:VCALENDAR
PRODID:-//AT Content Types//AT Event//EN
VERSION:2.0
METHOD:PUBLISH
BEGIN:VEVENT
DTSTAMP:20260423T131416Z
CREATED:20151026T192543Z
UID:ATEvent-9f27ed44-971b-4534-8e32-17d5c58a972d
LAST-MODIFIED:20160404T163331Z
SUMMARY:Armchair Traveler about Myanmar in SE Asia
DTSTART:20160424T200000Z
DTEND:20160424T210000Z
DESCRIPTION:If there is one theme prevalent throughout that entire cou
 ntry it would have to be Pagodas\, the golden Buddhist temples which a
 re constructed in the hundreds of thousands across the land. Wherever 
 he ended up\, he could always be certain to be welcomed by one of thes
 e looming golden spires. Preston will talk about train travel on Briti
 sh colonial era railways\, traditional Burmese marionette performance 
 and crawling through the dusty chambers of ancient stone temples. He'l
 l also bring along examples of Burmese textiles\, currency\, and a few
  audio recordings he made while visiting!
LOCATION:FENCE Center
CATEGORIES:Family
CONTACT:Tracie Hanson\, 828-859-9021\, info@fence.org
CLASS:PUBLIC
END:VEVENT
END:VCALENDAR
