BEGIN:VCALENDAR
PRODID:-//AT Content Types//AT Event//EN
VERSION:2.0
METHOD:PUBLISH
BEGIN:VEVENT
DTSTAMP:20260420T192948Z
CREATED:20101116T155639Z
UID:ATEvent-e96225fe-d32e-4fbd-8efa-fa88335a90fe
LAST-MODIFIED:20101116T155639Z
SUMMARY:April 9: FRC Dressage & Stadium
DTSTART:20110409T120000Z
DTEND:20110409T200000Z
LOCATION:Equestrian Center
CATEGORIES:Schooling
CONTACT:Margo Savage\, 828-863-4924
URL:http://www.foothillsridingclub.org
CLASS:PUBLIC
END:VEVENT
END:VCALENDAR
