BEGIN:VCALENDAR
PRODID:-//AT Content Types//AT Event//EN
VERSION:2.0
METHOD:PUBLISH
BEGIN:VEVENT
DTSTAMP:20260423T170635Z
CREATED:20101206T170027Z
UID:ATEvent-3666f3c4-a293-444e-8f2b-13d5248998c0
LAST-MODIFIED:20101206T170027Z
SUMMARY:April 9: Astronomy Program at sunset
DTSTART:20110409T223000Z
DTEND:20110410T023000Z
DESCRIPTION:"Saturn Rules The Night". Meet at the top of Hawk Ridge\, 
 behind the FENCE Center. Telescopes provided. Free program presented b
 y the Foothills Astronomical Society.
LOCATION:Hawk Ridge
CATEGORIES:Nature/Astronomy
CONTACT:j\, 828-859-8342
CLASS:PUBLIC
END:VEVENT
END:VCALENDAR
