BEGIN:VCALENDAR
PRODID:-//AT Content Types//AT Event//EN
VERSION:1.0
BEGIN:VEVENT
DTSTART:20100403T120000Z
DTEND:20100404T190000Z
DCREATED:20091117T180559Z
UID:ATEvent-b0aa8b96-5be8-46a1-8a74-d6e06e261b7f
SEQUENCE:0
LAST-MODIFIED:20091219T000923Z
SUMMARY:April 3/4 - FENCE Horse Trials
LOCATION:Equestrian Center & Cross-country course
PRIORITY:3
TRANSP:0
END:VEVENT
END:VCALENDAR
