BEGIN:VCALENDAR
PRODID:-//AT Content Types//AT Event//EN
VERSION:2.0
METHOD:PUBLISH
BEGIN:VEVENT
DTSTAMP:20260423T171300Z
CREATED:20091117T181620Z
UID:ATEvent-74d1ad87-c388-4673-b56d-a4d4907c1bc8
LAST-MODIFIED:20091219T000852Z
SUMMARY:April 24/25 - Dressage at FENCE
DTSTART:20100425T000000Z
DTEND:20100425T190000Z
LOCATION:Equestrian Center
CATEGORIES:Horse Show
CONTACT:828-859-9021\, horseshow@fence.org
CLASS:PUBLIC
END:VEVENT
END:VCALENDAR
