BEGIN:VCALENDAR
PRODID:-//AT Content Types//AT Event//EN
VERSION:2.0
METHOD:PUBLISH
BEGIN:VEVENT
DTSTAMP:20260423T072616Z
CREATED:20090327T192613Z
UID:ATEvent-c25f3237-c3b5-4a60-afc6-3c60bf86fe1f
LAST-MODIFIED:20090327T192613Z
SUMMARY:April 19 - FENCE Family Concert
DTSTART:20090419T200000Z
DTEND:20090419T213000Z
DESCRIPTION:Irish vocalist Donna Gallagher\, accompanied by harpist An
 na Bennett\, presents a program of selections from Irish musicals\, op
 era and operetta. Free program.
LOCATION:Great Room
CATEGORIES:Family
CONTACT:828-859-9021\, info@fence.org
CLASS:PUBLIC
END:VEVENT
END:VCALENDAR
