BEGIN:VCALENDAR
PRODID:-//AT Content Types//AT Event//EN
VERSION:2.0
METHOD:PUBLISH
BEGIN:VEVENT
DTSTAMP:20260423T142636Z
CREATED:20091117T181502Z
UID:ATEvent-abb96dce-8f90-4877-af21-8227d1d2c8e4
LAST-MODIFIED:20091117T181502Z
SUMMARY:April 19 - FENCE Benefit Golf at Bright's Creek
DTSTART:20100419T120000Z
DTEND:20100419T210000Z
DESCRIPTION:Our annual benefit played over the spectacular Bright's Cr
 eek Golf Club course.
LOCATION:Bright's Creek Golf Club\, Mill Spring NC
CATEGORIES:Benefit
CONTACT:828-859-9021\, info@fence.org
CLASS:PUBLIC
END:VEVENT
END:VCALENDAR
