BEGIN:VCALENDAR
PRODID:-//AT Content Types//AT Event//EN
VERSION:2.0
METHOD:PUBLISH
BEGIN:VEVENT
DTSTAMP:20260423T063308Z
CREATED:20091117T181306Z
UID:ATEvent-e1512333-a1de-42b5-9cee-42137b7d2705
LAST-MODIFIED:20100405T170153Z
SUMMARY:April 18 - Family Concert
DTSTART:20100418T200000Z
DTEND:20100418T213000Z
DESCRIPTION:Irish soprano Donna Gallagher\, accompanied by pianist Mil
 dred Roche\, presents a program of classical and traditional repertoir
 e. Free program.
LOCATION:Great Room
CATEGORIES:Family
CONTACT:828-859-9021\, info@fence.org
CLASS:PUBLIC
END:VEVENT
END:VCALENDAR
