BEGIN:VCALENDAR
PRODID:-//AT Content Types//AT Event//EN
VERSION:1.0
BEGIN:VEVENT
DTSTART:20100418T230000Z
DTEND:20100419T030000Z
DCREATED:20091117T180923Z
UID:ATEvent-4b0f133e-50a1-45f2-b7b3-733336a69777
SEQUENCE:0
LAST-MODIFIED:20091219T180546Z
SUMMARY:April 18 - Astronomy Program at sunset
DESCRIPTION:Program to be announced.
LOCATION:Hawk Ridge\, FENCE Center
PRIORITY:3
TRANSP:0
END:VEVENT
END:VCALENDAR
