BEGIN:VCALENDAR
PRODID:-//AT Content Types//AT Event//EN
VERSION:1.0
BEGIN:VEVENT
DTSTART:20100417T160000Z
DTEND:20100417T210000Z
DCREATED:20091117T181157Z
UID:ATEvent-f66c0f2c-63df-4e63-b945-4113f92e1b45
SEQUENCE:0
LAST-MODIFIED:20091219T000821Z
SUMMARY:April 17 - Block House Steeplechase
LOCATION:Equestrian Center
PRIORITY:3
TRANSP:0
END:VEVENT
END:VCALENDAR
