BEGIN:VCALENDAR
PRODID:-//AT Content Types//AT Event//EN
VERSION:2.0
METHOD:PUBLISH
BEGIN:VEVENT
DTSTAMP:20260423T114912Z
CREATED:20091124T172910Z
UID:ATEvent-8dc6caba-f337-49fc-beed-4fb51d7e8fa4
LAST-MODIFIED:20091219T180452Z
SUMMARY:April 17: Astronomy Program at sunset
DTSTART:20100417T230000Z
DTEND:20100418T030000Z
DESCRIPTION:Mercury joins Venus and the crescent moon at sunset. Progr
 am takes place on the hill behind our main building. Telescopes provid
 ed. No program in case of rain or heavy cloud cover. Offered by the Fo
 othills Astronomical Society.
LOCATION:Hawk Ridge\, FENCE Center
CATEGORIES:Nature/Astronomy
CONTACT:828-859-8342
CLASS:PUBLIC
END:VEVENT
END:VCALENDAR
