BEGIN:VCALENDAR
PRODID:-//AT Content Types//AT Event//EN
VERSION:1.0
BEGIN:VEVENT
DTSTART:20110415T233000Z
DTEND:20110416T013000Z
DCREATED:20101206T170917Z
UID:ATEvent-2b1210cc-7a6c-433a-a59b-341612345138
SEQUENCE:0
LAST-MODIFIED:20101206T170917Z
SUMMARY:April 15: Foothills Astronomical Society meeting
DESCRIPTION:Regular monthly club meeting. All invited. Enter through r
 ear of FENCE Center.
LOCATION:FENCE Center
PRIORITY:3
TRANSP:0
END:VEVENT
END:VCALENDAR
