BEGIN:VCALENDAR
PRODID:-//AT Content Types//AT Event//EN
VERSION:2.0
METHOD:PUBLISH
BEGIN:VEVENT
DTSTAMP:20260423T115635Z
CREATED:20091117T172513Z
UID:ATEvent-31f40bb7-ed67-4ec4-ae01-f9e1834266bd
LAST-MODIFIED:20091219T180418Z
SUMMARY:April 12 - Gardening Seminar
DTSTART:20100412T140000Z
DTEND:20100412T153000Z
DESCRIPTION:"A History of Herbs"\, with Rema Keen of Crescent Growers
LOCATION:Great Room
CATEGORIES:Nature Program
CONTACT:828-859-9021\, info@fence.org
CLASS:PUBLIC
END:VEVENT
END:VCALENDAR
