BEGIN:VCALENDAR
PRODID:-//AT Content Types//AT Event//EN
VERSION:1.0
BEGIN:VEVENT
DTSTART:20110411T140000Z
DTEND:20110411T153000Z
DCREATED:20101120T214413Z
UID:ATEvent-b47ea6eb-ff64-48de-84c8-ea0584760d95
SEQUENCE:0
LAST-MODIFIED:20101120T214426Z
SUMMARY:April 11: Gardening Seminar\, 10am
DESCRIPTION:"Feed Your Roses"\, with Motlow Creek Gardens rosarian Tri
 sh Walsh. Free program.
LOCATION:Great Room
PRIORITY:3
TRANSP:0
END:VEVENT
END:VCALENDAR
