BEGIN:VCALENDAR
PRODID:-//AT Content Types//AT Event//EN
VERSION:1.0
BEGIN:VEVENT
DTSTART:20180602T150000Z
DTEND:20180602T170000Z
DCREATED:20180522T142040Z
UID:ATEvent-c21d17018a57416dbfe31d9f096cb6d4
SEQUENCE:0
LAST-MODIFIED:20180522T142131Z
SUMMARY:Animal tracks and tracking program with Steve O'Neil
DESCRIPTION:Over the last two decades Steve has conducted several rept
 ile\, bat\, bear\, and vulture conservation\, ecology\, and environmen
 tal education & research projects studying the Eastern Box Turtle\, Bl
 ack Rat snake\, Timber Rattlesnake\, Black vulture\, Black bear\, and 
 our native bats.
LOCATION:FENCE Center
PRIORITY:3
TRANSP:0
END:VEVENT
END:VCALENDAR
