BEGIN:VCALENDAR
PRODID:-//AT Content Types//AT Event//EN
VERSION:2.0
METHOD:PUBLISH
BEGIN:VEVENT
DTSTAMP:20260423T130830Z
CREATED:20240124T002711Z
UID:ATEvent-d8ad0f56a8d84d049ffc533b8af07b94
LAST-MODIFIED:20240222T183811Z
SUMMARY:Animal Program with Steve O'neil
DTSTART:20240302T150000Z
DTEND:20240302T160000Z
LOCATION:FENCE Center
CATEGORIES:Family
CONTACT:828-859-9021\, info@fence.org
CLASS:PUBLIC
END:VEVENT
END:VCALENDAR
