BEGIN:VCALENDAR
PRODID:-//AT Content Types//AT Event//EN
VERSION:2.0
METHOD:PUBLISH
BEGIN:VEVENT
DTSTAMP:20260423T141908Z
CREATED:20180116T194440Z
UID:ATEvent-27de96f527b042abadffbf28bde74525
LAST-MODIFIED:20180821T144857Z
SUMMARY:Animal Presentation with Carlton Burke
DTSTART:20180428T180000Z
DTEND:20180428T190000Z
DESCRIPTION:Local Naturalist Carlton Burke takes us on a Wild Encounte
 r on Saturday April 28th. Join us at FENCE for this special event! Tha
 nk you to the Kirby Endowment at the Polk County Community Foundation 
 for making this event possible.
LOCATION:FENCE Great Room
CATEGORIES:Nature Program
CONTACT:828-859-9021\, info@fence.org
CLASS:PUBLIC
END:VEVENT
END:VCALENDAR
