BEGIN:VCALENDAR
PRODID:-//AT Content Types//AT Event//EN
VERSION:1.0
BEGIN:VEVENT
DTSTART:20170520T180000Z
DTEND:20170520T200000Z
DCREATED:20170105T173922Z
UID:ATEvent-c5b3872a7bc54a0f9449376d50daaebb
SEQUENCE:0
LAST-MODIFIED:20170505T202408Z
SUMMARY:Animal Encounter with Carlton Burke
DESCRIPTION:Naturalist\, Carlton Burke will visit FENCE and will bring
  along some of his educational animals for the program. This is sure t
 o be a great event for all ages! \n “The Southern Appalachian Mounta
 ins are home to an incredible diversity of both plant and animal life.
  Form the high ridges to the low valleys\, the varied topography of th
 ese mountains combine to create a unique blend of plant and animal com
 munities. In this program you will meet some of the natural residents 
 who make their home in the Appalachian Wild!”\n\nThis program is mad
 e possible by the Kirby Endowment at the Polk County Community Foundat
 ion.
LOCATION:FENCE Center
PRIORITY:3
TRANSP:0
END:VEVENT
END:VCALENDAR
