BEGIN:VCALENDAR
PRODID:-//AT Content Types//AT Event//EN
VERSION:2.0
METHOD:PUBLISH
BEGIN:VEVENT
DTSTAMP:20260423T142548Z
CREATED:20190515T150258Z
UID:ATEvent-88ec434a8d394ce4a130df7179886c9a
LAST-MODIFIED:20190515T150259Z
SUMMARY:Animal Encounter with Carlton Burke
DTSTART:20190518T180000Z
DTEND:20190518T193000Z
DESCRIPTION:Carlton Burke presents "Wild Encounters!". This program wi
 ll take place at FENCE in the great room. Carlton will bring along a v
 ariety of native animal guests for us to learn about.
LOCATION:FENCE Center
CATEGORIES:Nature Program
CONTACT:828-859-9021\, info@fence.org
CLASS:PUBLIC
END:VEVENT
END:VCALENDAR
