BEGIN:VCALENDAR
PRODID:-//AT Content Types//AT Event//EN
VERSION:1.0
BEGIN:VEVENT
DTSTART:20190504T120000Z
DTEND:20190504T210000Z
DCREATED:20181016T195237Z
UID:ATEvent-7e9cf41285f940ca9c8996834b7054ef
SEQUENCE:0
LAST-MODIFIED:20190103T205543Z
SUMMARY:All demo EQ Event
PRIORITY:3
TRANSP:0
END:VEVENT
END:VCALENDAR
