BEGIN:VCALENDAR
PRODID:-//AT Content Types//AT Event//EN
VERSION:2.0
METHOD:PUBLISH
BEGIN:VEVENT
DTSTAMP:20260420T132257Z
CREATED:20130108T153515Z
UID:ATEvent-f266cc25-77ff-4495-9f21-3ce85ef43bab
LAST-MODIFIED:20130108T153516Z
SUMMARY:All Day Camp
DTSTART:20130708T120000Z
DTEND:20130712T210000Z
DESCRIPTION:AGES (5-12) $150.00 SESSION  8A.M. – 5P.M.\nTHIS CAMP WI
 LL BE AN ALL DAY CAMP WITH A MIXTURE OF ALL THE OTHER CAMPS INCLUDING\
 , EXPLORING NATURE\, LEARNING ABOUT THE EARTH & ASTRONOMY\, PHOTOGRAPH
 Y\, AND SURVIVAL SKILLS. THIS WEEK WILL BE A VERY EXCITING WEEK FULL O
 F LOTS OF GREAT THINGS TO LEARN\nINCLUDES MORNING & AFTERNOON SNACK \,
  BRING BAG LUNCH \nLimited to 50 Campers
CATEGORIES:Childrens Day Camp
CONTACT:Tracie Hanson\, 828-859-9021\, natureeducation@fence.org
CLASS:PUBLIC
END:VEVENT
END:VCALENDAR
