BEGIN:VCALENDAR
PRODID:-//AT Content Types//AT Event//EN
VERSION:2.0
METHOD:PUBLISH
BEGIN:VEVENT
DTSTAMP:20260423T170803Z
CREATED:20230928T190110Z
UID:ATEvent-fce02c03504d4e2998e02e501d6d1520
LAST-MODIFIED:20230928T190110Z
SUMMARY:All Day Camp
DTSTART:20240627T120000Z
DTEND:20240627T210000Z
DESCRIPTION:$225
LOCATION:FENCE Center
CATEGORIES:Childrens Day Camp
CONTACT:8288599021\, info@fence.org
CLASS:PUBLIC
END:VEVENT
END:VCALENDAR
