BEGIN:VCALENDAR
PRODID:-//AT Content Types//AT Event//EN
VERSION:2.0
METHOD:PUBLISH
BEGIN:VEVENT
DTSTAMP:20260423T140630Z
CREATED:20230928T185946Z
UID:ATEvent-f14a1c2ec95848738d2ce821835e5994
LAST-MODIFIED:20230928T185946Z
SUMMARY:All Day Camp
DTSTART:20240626T120000Z
DTEND:20240626T210000Z
DESCRIPTION:$225
LOCATION:FENCE Center
CATEGORIES:Childrens Day Camp
CONTACT:8288599021\, info@fence.org
CLASS:PUBLIC
END:VEVENT
END:VCALENDAR
