BEGIN:VCALENDAR
PRODID:-//AT Content Types//AT Event//EN
VERSION:1.0
BEGIN:VEVENT
DTSTART:20240625T120000Z
DTEND:20240625T210000Z
DCREATED:20230928T185836Z
UID:ATEvent-c77ef8dbfd8849cd82b4891424665d96
SEQUENCE:0
LAST-MODIFIED:20230928T190014Z
SUMMARY:All Day Camp
DESCRIPTION:$225
LOCATION:FENCE Center
PRIORITY:3
TRANSP:0
END:VEVENT
END:VCALENDAR
