BEGIN:VCALENDAR
PRODID:-//AT Content Types//AT Event//EN
VERSION:1.0
BEGIN:VEVENT
DTSTART:20240624T120000Z
DTEND:20240624T210000Z
DCREATED:20230928T185728Z
UID:ATEvent-4c014fe8ca4940cdb25a58b0a27a4b1f
SEQUENCE:0
LAST-MODIFIED:20230928T185728Z
SUMMARY:All Day Camp
DESCRIPTION:$225
LOCATION:FENCE Center
PRIORITY:3
TRANSP:0
END:VEVENT
END:VCALENDAR
