BEGIN:VCALENDAR
PRODID:-//AT Content Types//AT Event//EN
VERSION:2.0
METHOD:PUBLISH
BEGIN:VEVENT
DTSTAMP:20260423T191139Z
CREATED:20230117T200443Z
UID:ATEvent-75d0a2106f4e4235967d4469e3822799
LAST-MODIFIED:20230119T213030Z
SUMMARY:All Day Camp
DTSTART:20230626T120000Z
DTEND:20230630T210000Z
DESCRIPTION:All Day Camp is a healthy mix of art\, environmental stewa
 rdship\, and team building. Example activities include hikes\, art pro
 jects\, and outdoor games. Guest speakers and presenters are also feat
 ured all week long\, with many exciting visitors. Camp is $225 per cam
 per and held 8:00 am – 5:00 pm
LOCATION:FENCE Center
CATEGORIES:Childrens Day Camp
CONTACT:Tracie Hanson\, 8288599021\, info@fence.org
CLASS:PUBLIC
END:VEVENT
END:VCALENDAR
