BEGIN:VCALENDAR
PRODID:-//AT Content Types//AT Event//EN
VERSION:2.0
METHOD:PUBLISH
BEGIN:VEVENT
DTSTAMP:20260423T115007Z
CREATED:20211213T171438Z
UID:ATEvent-0036ea2122534ed69345cf93ddfad258
LAST-MODIFIED:20220608T154952Z
SUMMARY:All Day Camp
DTSTART:20220627T120000Z
DTEND:20220701T210000Z
DESCRIPTION:This camp  includes a wide variety of activities including
  hiking\, exploring nature\, arts and crafts\, team building activitie
 s\, groups games\, special guest presenters\, and much more! Camp incl
 udes a morning and afternoon snack.
LOCATION:FENCE Center
CATEGORIES:Family
CONTACT:8288599021\, info@fence.org
CLASS:PUBLIC
END:VEVENT
END:VCALENDAR
