BEGIN:VCALENDAR
PRODID:-//AT Content Types//AT Event//EN
VERSION:2.0
METHOD:PUBLISH
BEGIN:VEVENT
DTSTAMP:20260423T130956Z
CREATED:20210317T124748Z
UID:ATEvent-338f6a2da918419ba76d21e766fb5eb5
LAST-MODIFIED:20210317T124748Z
SUMMARY:All Day Camp
DTSTART:20210628T120000Z
DTEND:20210702T210000Z
LOCATION:FENCE Center
CATEGORIES:Childrens Day Camp
CONTACT:TRACIE HANSON\, 8288599021\, natureeducation@fence.org
CLASS:PUBLIC
END:VEVENT
END:VCALENDAR
