BEGIN:VCALENDAR
PRODID:-//AT Content Types//AT Event//EN
VERSION:1.0
BEGIN:VEVENT
DTSTART:20200727T120000Z
DTEND:20200731T210000Z
DCREATED:20200521T160427Z
UID:ATEvent-67f5a352d77948f684ac424940c31996
SEQUENCE:0
LAST-MODIFIED:20200521T160427Z
SUMMARY:All Day Camp 2
LOCATION:FENCE Center
PRIORITY:3
TRANSP:0
END:VEVENT
END:VCALENDAR
