BEGIN:VCALENDAR
PRODID:-//AT Content Types//AT Event//EN
VERSION:2.0
METHOD:PUBLISH
BEGIN:VEVENT
DTSTAMP:20260420T230745Z
CREATED:20251217T175421Z
UID:ATEvent-b5f9ba7f0a7a483b8dbbeb4c832ab03e
LAST-MODIFIED:20251217T175421Z
SUMMARY:All Day Camp
DTSTART:20260615T130000Z
DTEND:20260619T210000Z
CATEGORIES:Childrens Day Camp
CONTACT:ashley@fence.org
CLASS:PUBLIC
END:VEVENT
END:VCALENDAR
