BEGIN:VCALENDAR
PRODID:-//AT Content Types//AT Event//EN
VERSION:2.0
METHOD:PUBLISH
BEGIN:VEVENT
DTSTAMP:20260423T142135Z
CREATED:20230928T190220Z
UID:ATEvent-a089deae88c348fa9a3493fe4a589a9b
LAST-MODIFIED:20230928T190221Z
SUMMARY:All Day Camp
DTSTART:20240628T120000Z
DTEND:20240628T210000Z
DESCRIPTION:$225
LOCATION:FENCE Center
CATEGORIES:Childrens Day Camp
CONTACT:8288599021\, info@fence.org
CLASS:PUBLIC
END:VEVENT
END:VCALENDAR
