BEGIN:VCALENDAR
PRODID:-//AT Content Types//AT Event//EN
VERSION:2.0
METHOD:PUBLISH
BEGIN:VEVENT
DTSTAMP:20260423T142114Z
CREATED:20151026T200927Z
UID:ATEvent-97ff1ac4-34f2-4f6f-b3f3-6036edfd4a75
LAST-MODIFIED:20160418T190234Z
SUMMARY:All Day Camp
DTSTART:20160627T120000Z
DTEND:20160701T210000Z
DESCRIPTION:AGES (5-12) $150.00 SESSION  8A.M. – 5P.M.\nTHIS CAMP WI
 LL BE AN ALL DAY CAMP WITH A MIXTURE OF ALL THE OTHER CAMPS INCLUDING\
 , EXPLORING NATURE\, LEARNING ABOUT THE EARTH & ASTRONOMY\, PHOTOGRAPH
 Y\, AND SURVIVAL SKILLS. THIS WEEK WILL BE A VERY EXCITING WEEK FULL O
 F LOTS OF GREAT THINGS TO LEARN INCLUDES MORNING & AFTERNOON SNACK \, 
 BRING BAG LUNCH \nLimited to 50 Campers
LOCATION:FENCE Center
CATEGORIES:Family
CONTACT:Tracie Hanson\, 828-859-9021\, info@fence.org
CLASS:PUBLIC
END:VEVENT
END:VCALENDAR
