BEGIN:VCALENDAR
PRODID:-//AT Content Types//AT Event//EN
VERSION:2.0
METHOD:PUBLISH
BEGIN:VEVENT
DTSTAMP:20260423T115056Z
CREATED:20200226T154936Z
UID:ATEvent-e28fa97cf9f7450b8d1306be9734115c
LAST-MODIFIED:20200226T154937Z
SUMMARY:All about Bluebirds
DTSTART:20200314T150000Z
DTEND:20200314T163000Z
DESCRIPTION:Joe Sanders will present a program all about the Eastern B
 luebird. Join us to find out all about the species\, threats to the sp
 ecies\, and what we can do to help this beloved bird.
LOCATION:FENCE Center
CATEGORIES:Nature Program
CONTACT:Tracie Hanson\, 828-859-9021\, info@fence.org
CLASS:PUBLIC
END:VEVENT
END:VCALENDAR
