BEGIN:VCALENDAR
PRODID:-//AT Content Types//AT Event//EN
VERSION:1.0
BEGIN:VEVENT
DTSTART:20220109T210000Z
DTEND:20220109T220000Z
DCREATED:20211213T162942Z
UID:ATEvent-fb2ba3299d6f4fa19a1671160f002999
SEQUENCE:0
LAST-MODIFIED:20220121T185051Z
SUMMARY:A Winter's Evening Concert
DESCRIPTION:This event is free and open to the public. Please register
  in advance for this performance by emailing info@fence.org or calling
  828-859-9021. This performance will take place in the Great Room at F
 ENCE.
LOCATION:FENCE Center
PRIORITY:3
TRANSP:0
END:VEVENT
END:VCALENDAR
