BEGIN:VCALENDAR
PRODID:-//AT Content Types//AT Event//EN
VERSION:2.0
METHOD:PUBLISH
BEGIN:VEVENT
DTSTAMP:20260423T115249Z
CREATED:20160928T155805Z
UID:ATEvent-4c1d4b58b82d41f8bde4273ee25d9455
LAST-MODIFIED:20161116T145524Z
SUMMARY:Canceled due to Air Quality for horses - A Gelding\, Microchipping\, & Coggins Clinic
DTSTART:20161119T150000Z
DTEND:20161119T210000Z
DESCRIPTION:A Gelding\, Microchipping\, & Coggins clinic\, sponsored b
 y FERA.  Vets will be on site (eq side of FENCE) for low cost gelding\
 , microchipping\, Coggins testing and fall shots.
LOCATION:FENCE Equestrian side
CATEGORIES:Clinic
CONTACT:Barbara Claussen\, 828-989-0423\, barbaraclaussen@me.com
CLASS:PUBLIC
END:VEVENT
END:VCALENDAR
